BEGIN:VCALENDAR
VERSION:2.0
PRODID:-//Conservation Professional Training Program - ECPv6.15.17.1//NONSGML v1.0//EN
CALSCALE:GREGORIAN
METHOD:PUBLISH
X-ORIGINAL-URL:https://conservationprotraining.org
X-WR-CALDESC:Events for Conservation Professional Training Program
REFRESH-INTERVAL;VALUE=DURATION:PT1H
X-Robots-Tag:noindex
X-PUBLISHED-TTL:PT1H
BEGIN:VTIMEZONE
TZID:America/Chicago
BEGIN:DAYLIGHT
TZOFFSETFROM:-0600
TZOFFSETTO:-0500
TZNAME:CDT
DTSTART:20250309T080000
END:DAYLIGHT
BEGIN:STANDARD
TZOFFSETFROM:-0500
TZOFFSETTO:-0600
TZNAME:CST
DTSTART:20251102T070000
END:STANDARD
BEGIN:DAYLIGHT
TZOFFSETFROM:-0600
TZOFFSETTO:-0500
TZNAME:CDT
DTSTART:20260308T080000
END:DAYLIGHT
BEGIN:STANDARD
TZOFFSETFROM:-0500
TZOFFSETTO:-0600
TZNAME:CST
DTSTART:20261101T070000
END:STANDARD
BEGIN:DAYLIGHT
TZOFFSETFROM:-0600
TZOFFSETTO:-0500
TZNAME:CDT
DTSTART:20270314T080000
END:DAYLIGHT
BEGIN:STANDARD
TZOFFSETFROM:-0500
TZOFFSETTO:-0600
TZNAME:CST
DTSTART:20271107T070000
END:STANDARD
END:VTIMEZONE
BEGIN:VEVENT
DTSTART;TZID=America/Chicago:20260203T100000
DTEND;TZID=America/Chicago:20260203T113000
DTSTAMP:20260421T134340
CREATED:20251224T214650Z
LAST-MODIFIED:20251224T214650Z
UID:3305-1770112800-1770118200@conservationprotraining.org
SUMMARY:DATCP Co-Op Training Series
DESCRIPTION:Online Co-Op Training Series\nSoil\, Water Resource Management Grants\, Nitrogen Optimization Program\, and Producer Led Program\nDATCP staff are excited to invite you to learn more about DATCP’s conservation program offerings.  DATCP will host three webinars on a variety of conservation topics. CEUs will be available for each webinar. Registration is required. \nDetails & Registration\nAll Webinars
URL:https://conservationprotraining.org/event/datcp-co-op-training-series/
CATEGORIES:Partner Event
END:VEVENT
BEGIN:VEVENT
DTSTART;TZID=America/Chicago:20260210T090000
DTEND;TZID=America/Chicago:20260210T120000
DTSTAMP:20260421T134340
CREATED:20260126T212028Z
LAST-MODIFIED:20260126T212326Z
UID:3327-1770714000-1770724800@conservationprotraining.org
SUMMARY:Virtual 2026 Northern Soil Compaction Conference
DESCRIPTION:An international virtual event designed to help producers understand\, manage\, and prevent compaction.\nThe 2026 Northern Soil Compaction Conference will provide an opportunity to explore the latest research and practical solutions from top experts in the U.S. and Canada. Attendees can gain actionable insights to address current compaction issues\, develop long-term management strategies\, and learn about the benefits of these practices for productivity and profitability. \nThe conference will be held online from 9 a.m. to noon CST on Feb. 3\, 10\, 17\, and 24. \nCertified crop advisers may earn up to 12 continuing education units (CEUs) over the four days of the conference. \nSee Details & Register
URL:https://conservationprotraining.org/event/virtual-2026-northern-soil-compaction-conference-2/
CATEGORIES:Extension Event,Partner Event
END:VEVENT
END:VCALENDAR