BEGIN:VCALENDAR
VERSION:2.0
PRODID:-//Conservation Professional Training Program - ECPv6.15.17.1//NONSGML v1.0//EN
CALSCALE:GREGORIAN
METHOD:PUBLISH
X-ORIGINAL-URL:https://conservationprotraining.org
X-WR-CALDESC:Events for Conservation Professional Training Program
REFRESH-INTERVAL;VALUE=DURATION:PT1H
X-Robots-Tag:noindex
X-PUBLISHED-TTL:PT1H
BEGIN:VTIMEZONE
TZID:America/Chicago
BEGIN:DAYLIGHT
TZOFFSETFROM:-0600
TZOFFSETTO:-0500
TZNAME:CDT
DTSTART:20210314T080000
END:DAYLIGHT
BEGIN:STANDARD
TZOFFSETFROM:-0500
TZOFFSETTO:-0600
TZNAME:CST
DTSTART:20211107T070000
END:STANDARD
BEGIN:DAYLIGHT
TZOFFSETFROM:-0600
TZOFFSETTO:-0500
TZNAME:CDT
DTSTART:20220313T080000
END:DAYLIGHT
BEGIN:STANDARD
TZOFFSETFROM:-0500
TZOFFSETTO:-0600
TZNAME:CST
DTSTART:20221106T070000
END:STANDARD
BEGIN:DAYLIGHT
TZOFFSETFROM:-0600
TZOFFSETTO:-0500
TZNAME:CDT
DTSTART:20230312T080000
END:DAYLIGHT
BEGIN:STANDARD
TZOFFSETFROM:-0500
TZOFFSETTO:-0600
TZNAME:CST
DTSTART:20231105T070000
END:STANDARD
END:VTIMEZONE
BEGIN:VEVENT
DTSTART;TZID=America/Chicago:20220120T150000
DTEND;TZID=America/Chicago:20220120T160000
DTSTAMP:20260422T220140
CREATED:20220112T211911Z
LAST-MODIFIED:20220112T211911Z
UID:1667-1642690800-1642694400@conservationprotraining.org
SUMMARY:Solar Pollinator Habitat Discovery
DESCRIPTION:Warren County SWCD (OH) will describe their new pollinator habitat garden and walking trail. The trails surround a solar panel farm and contain seven self-guided interactive learning stations for local families to learn more about the science behind pollinators and solar power. \nInfo here.
URL:https://conservationprotraining.org/event/solar-pollinator-habitat-discovery/
CATEGORIES:Partner Event
END:VEVENT
END:VCALENDAR