BEGIN:VCALENDAR
VERSION:2.0
PRODID:-//Conservation Professional Training Program - ECPv6.15.17.1//NONSGML v1.0//EN
CALSCALE:GREGORIAN
METHOD:PUBLISH
X-ORIGINAL-URL:https://conservationprotraining.org
X-WR-CALDESC:Events for Conservation Professional Training Program
REFRESH-INTERVAL;VALUE=DURATION:PT1H
X-Robots-Tag:noindex
X-PUBLISHED-TTL:PT1H
BEGIN:VTIMEZONE
TZID:America/Chicago
BEGIN:DAYLIGHT
TZOFFSETFROM:-0600
TZOFFSETTO:-0500
TZNAME:CDT
DTSTART:20240310T080000
END:DAYLIGHT
BEGIN:STANDARD
TZOFFSETFROM:-0500
TZOFFSETTO:-0600
TZNAME:CST
DTSTART:20241103T070000
END:STANDARD
BEGIN:DAYLIGHT
TZOFFSETFROM:-0600
TZOFFSETTO:-0500
TZNAME:CDT
DTSTART:20250309T080000
END:DAYLIGHT
BEGIN:STANDARD
TZOFFSETFROM:-0500
TZOFFSETTO:-0600
TZNAME:CST
DTSTART:20251102T070000
END:STANDARD
BEGIN:DAYLIGHT
TZOFFSETFROM:-0600
TZOFFSETTO:-0500
TZNAME:CDT
DTSTART:20260308T080000
END:DAYLIGHT
BEGIN:STANDARD
TZOFFSETFROM:-0500
TZOFFSETTO:-0600
TZNAME:CST
DTSTART:20261101T070000
END:STANDARD
END:VTIMEZONE
BEGIN:VEVENT
DTSTART;TZID=America/Chicago:20250708T080000
DTEND;TZID=America/Chicago:20250708T151500
DTSTAMP:20260420T115505
CREATED:20250701T191920Z
LAST-MODIFIED:20250701T191920Z
UID:3066-1751961600-1751987700@conservationprotraining.org
SUMMARY:Midwest Organic Center Field Day
DESCRIPTION:Participants will have the opportunity to interact one-on-one with Rodale Institute’s Midwest Organic Center staff and team of Organic Consultants\, and learn about our research and demonstration projects focused on organic agriculture and tailored for farmers in the Midwest. This event is ideal for researchers\, students\, educators and all farmers\, whether you are interested in learning more about organic farming\, have an interest in consulting services to transition to organic\, or are currently a Midwest organic farmer. Attendance is free\, but registration is required. Food trucks will be available to purchase lunch during the event. \n\n\nLearn More & Register\n 
URL:https://conservationprotraining.org/event/midwest-organic-center-field-day/
LOCATION:Midwest Organic Center\, 3706 St Peters Rd.\, Marion\, IA\, 52302\, United States
CATEGORIES:Partner Event
END:VEVENT
END:VCALENDAR