BEGIN:VCALENDAR
VERSION:2.0
PRODID:-//Conservation Professional Training Program - ECPv6.15.17.1//NONSGML v1.0//EN
CALSCALE:GREGORIAN
METHOD:PUBLISH
X-ORIGINAL-URL:https://conservationprotraining.org
X-WR-CALDESC:Events for Conservation Professional Training Program
REFRESH-INTERVAL;VALUE=DURATION:PT1H
X-Robots-Tag:noindex
X-PUBLISHED-TTL:PT1H
BEGIN:VTIMEZONE
TZID:America/Chicago
BEGIN:DAYLIGHT
TZOFFSETFROM:-0600
TZOFFSETTO:-0500
TZNAME:CDT
DTSTART:20200308T080000
END:DAYLIGHT
BEGIN:STANDARD
TZOFFSETFROM:-0500
TZOFFSETTO:-0600
TZNAME:CST
DTSTART:20201101T070000
END:STANDARD
BEGIN:DAYLIGHT
TZOFFSETFROM:-0600
TZOFFSETTO:-0500
TZNAME:CDT
DTSTART:20210314T080000
END:DAYLIGHT
BEGIN:STANDARD
TZOFFSETFROM:-0500
TZOFFSETTO:-0600
TZNAME:CST
DTSTART:20211107T070000
END:STANDARD
BEGIN:DAYLIGHT
TZOFFSETFROM:-0600
TZOFFSETTO:-0500
TZNAME:CDT
DTSTART:20220313T080000
END:DAYLIGHT
BEGIN:STANDARD
TZOFFSETFROM:-0500
TZOFFSETTO:-0600
TZNAME:CST
DTSTART:20221106T070000
END:STANDARD
END:VTIMEZONE
BEGIN:VEVENT
DTSTART;TZID=America/Chicago:20210304T090000
DTEND;TZID=America/Chicago:20210304T120000
DTSTAMP:20260423T002441
CREATED:20210217T174055Z
LAST-MODIFIED:20210217T174055Z
UID:813-1614848400-1614859200@conservationprotraining.org
SUMMARY:Manure Applicator Training
DESCRIPTION:The University of Wisconsin-Madison Division of Extension is hosting four virtual Manure Applicator Training – Level 1 / Manure 101.  Designed for employees of both for-hire manure applicators and farmers applying their own manure\, this 3-hour training covers the basics of manure spill response\, setbacks and regulations\, neighbor relations and equipment/manure gas safety. \nThe same training will be offered four times: \n\nMarch 4th\, 9AM – 12PM CT\nMarch 11th\, 6PM – 9PM CT\nMarch 23rd\, 9PM – 12PM CT\nMarch 29th\, 12:30PM – 3:30PM CT\n\nParticipants can register for any one of the sessions online at http://go.wisc.edu/4lm34e.  An internet-capable device and internet connection is required\, and the cost is $10/person. \nFor more information\, contact Kevin.Erb@wisc.edu.
URL:https://conservationprotraining.org/event/manure-applicator-training/
CATEGORIES:CPTP Training,Extension Event
END:VEVENT
END:VCALENDAR