BEGIN:VCALENDAR
VERSION:2.0
PRODID:-//Conservation Professional Training Program - ECPv6.15.20//NONSGML v1.0//EN
CALSCALE:GREGORIAN
METHOD:PUBLISH
X-ORIGINAL-URL:https://conservationprotraining.org
X-WR-CALDESC:Events for Conservation Professional Training Program
REFRESH-INTERVAL;VALUE=DURATION:PT1H
X-Robots-Tag:noindex
X-PUBLISHED-TTL:PT1H
BEGIN:VTIMEZONE
TZID:America/Chicago
BEGIN:DAYLIGHT
TZOFFSETFROM:-0600
TZOFFSETTO:-0500
TZNAME:CDT
DTSTART:20220313T080000
END:DAYLIGHT
BEGIN:STANDARD
TZOFFSETFROM:-0500
TZOFFSETTO:-0600
TZNAME:CST
DTSTART:20221106T070000
END:STANDARD
BEGIN:DAYLIGHT
TZOFFSETFROM:-0600
TZOFFSETTO:-0500
TZNAME:CDT
DTSTART:20230312T080000
END:DAYLIGHT
BEGIN:STANDARD
TZOFFSETFROM:-0500
TZOFFSETTO:-0600
TZNAME:CST
DTSTART:20231105T070000
END:STANDARD
BEGIN:DAYLIGHT
TZOFFSETFROM:-0600
TZOFFSETTO:-0500
TZNAME:CDT
DTSTART:20240310T080000
END:DAYLIGHT
BEGIN:STANDARD
TZOFFSETFROM:-0500
TZOFFSETTO:-0600
TZNAME:CST
DTSTART:20241103T070000
END:STANDARD
END:VTIMEZONE
BEGIN:VEVENT
DTSTART;TZID=America/Chicago:20230112T100000
DTEND;TZID=America/Chicago:20230112T110000
DTSTAMP:20260424T070750
CREATED:20221220T211259Z
LAST-MODIFIED:20221220T212119Z
UID:2479-1673517600-1673521200@conservationprotraining.org
SUMMARY:Winter G-Team Meeting-Introduction to the Heifer Grazing Compass Tool "Making the Economic Case for Raising Dairy Heifers on Pasture"
DESCRIPTION:The goal of this training is to provide service providers the knowledge and skills to utilize this tool and engage the farmers they work in conversations regarding the economics of raising livestock on pasture. \nJoin other agency staff and grazing advocates for this engaging training. \nAgenda: \n– Introductions \n– Farmer Panel: \nMike Redetzke – Peaceful Creek Acres\, Colby \nJacob Brey – Brey Cycle Farm\, Sturgeon Bay \nRon Schoepp – Schoepp Farms\, Lodi \n– Introduction of the Heifer Grazing Compass Tool: John Hendrickson\, Jim Munsch \n– Lunch (provided) \n– Hands on working through scenarios (bring your laptop) \nInfo here. 
URL:https://conservationprotraining.org/event/winter-g-team-meeting-introduction-to-the-heifer-grazing-compass-tool-making-the-economic-case-for-raising-dairy-heifers-on-pasture/
END:VEVENT
END:VCALENDAR