BEGIN:VCALENDAR
VERSION:2.0
PRODID:-//Conservation Professional Training Program - ECPv6.15.20//NONSGML v1.0//EN
CALSCALE:GREGORIAN
METHOD:PUBLISH
X-ORIGINAL-URL:https://conservationprotraining.org
X-WR-CALDESC:Events for Conservation Professional Training Program
REFRESH-INTERVAL;VALUE=DURATION:PT1H
X-Robots-Tag:noindex
X-PUBLISHED-TTL:PT1H
BEGIN:VTIMEZONE
TZID:America/Chicago
BEGIN:DAYLIGHT
TZOFFSETFROM:-0600
TZOFFSETTO:-0500
TZNAME:CDT
DTSTART:20190310T080000
END:DAYLIGHT
BEGIN:STANDARD
TZOFFSETFROM:-0500
TZOFFSETTO:-0600
TZNAME:CST
DTSTART:20191103T070000
END:STANDARD
BEGIN:DAYLIGHT
TZOFFSETFROM:-0600
TZOFFSETTO:-0500
TZNAME:CDT
DTSTART:20200308T080000
END:DAYLIGHT
BEGIN:STANDARD
TZOFFSETFROM:-0500
TZOFFSETTO:-0600
TZNAME:CST
DTSTART:20201101T070000
END:STANDARD
BEGIN:DAYLIGHT
TZOFFSETFROM:-0600
TZOFFSETTO:-0500
TZNAME:CDT
DTSTART:20210314T080000
END:DAYLIGHT
BEGIN:STANDARD
TZOFFSETFROM:-0500
TZOFFSETTO:-0600
TZNAME:CST
DTSTART:20211107T070000
END:STANDARD
END:VTIMEZONE
BEGIN:VEVENT
DTSTART;TZID=America/Chicago:20201014T103000
DTEND;TZID=America/Chicago:20201014T123000
DTSTAMP:20260425T123937
CREATED:20200921T184851Z
LAST-MODIFIED:20200921T184851Z
UID:489-1602671400-1602678600@conservationprotraining.org
SUMMARY:Grazing Virtual Field Day
DESCRIPTION:This grazing field day will focus on pasture management\, soil health\, regenerative agriculture as well as opportunities that are provided by Conservation Districts and the National Conservation Resource Service. \nLearn more here.
URL:https://conservationprotraining.org/event/grazing-virtual-field-day/
LOCATION:Online
CATEGORIES:Partner Event
END:VEVENT
BEGIN:VEVENT
DTSTART;TZID=America/Chicago:20201026T150000
DTEND;TZID=America/Chicago:20201026T160000
DTSTAMP:20260425T123937
CREATED:20200921T185433Z
LAST-MODIFIED:20200921T185433Z
UID:490-1603724400-1603728000@conservationprotraining.org
SUMMARY:Designing Silvopasture Plantings
DESCRIPTION:Join us to learn about approaches to planning for woodland conversion and trees into pasture including tools and methods\, mapping\, tree spacing and patterning\, and more. \nRegister here.
URL:https://conservationprotraining.org/event/designing-silvopasture-plantings/
LOCATION:Online
CATEGORIES:Partner Event
END:VEVENT
BEGIN:VEVENT
DTSTART;TZID=America/Chicago:20201029T090000
DTEND;TZID=America/Chicago:20201029T120000
DTSTAMP:20260425T123937
CREATED:20201006T211539Z
LAST-MODIFIED:20201006T212417Z
UID:527-1603962000-1603972800@conservationprotraining.org
SUMMARY:Fence Options for Grazing Cover Crops & Corn Residue
DESCRIPTION:This event will feature expert knowledge and farm information focused on the Five Principles of Soil Health and especially livestock integration. \nLearn more here.
URL:https://conservationprotraining.org/event/fence-options-for-grazing-cover-crops-corn-residue/
LOCATION:Jared Luhman Farm\, 23008 350th St\, Goodhue\, Minnesota
CATEGORIES:Partner Event
END:VEVENT
END:VCALENDAR