BEGIN:VCALENDAR
VERSION:2.0
PRODID:-//Conservation Professional Training Program - ECPv6.15.17.1//NONSGML v1.0//EN
CALSCALE:GREGORIAN
METHOD:PUBLISH
X-ORIGINAL-URL:https://conservationprotraining.org
X-WR-CALDESC:Events for Conservation Professional Training Program
REFRESH-INTERVAL;VALUE=DURATION:PT1H
X-Robots-Tag:noindex
X-PUBLISHED-TTL:PT1H
BEGIN:VTIMEZONE
TZID:America/Chicago
BEGIN:DAYLIGHT
TZOFFSETFROM:-0600
TZOFFSETTO:-0500
TZNAME:CDT
DTSTART:20220313T080000
END:DAYLIGHT
BEGIN:STANDARD
TZOFFSETFROM:-0500
TZOFFSETTO:-0600
TZNAME:CST
DTSTART:20221106T070000
END:STANDARD
BEGIN:DAYLIGHT
TZOFFSETFROM:-0600
TZOFFSETTO:-0500
TZNAME:CDT
DTSTART:20230312T080000
END:DAYLIGHT
BEGIN:STANDARD
TZOFFSETFROM:-0500
TZOFFSETTO:-0600
TZNAME:CST
DTSTART:20231105T070000
END:STANDARD
BEGIN:DAYLIGHT
TZOFFSETFROM:-0600
TZOFFSETTO:-0500
TZNAME:CDT
DTSTART:20240310T080000
END:DAYLIGHT
BEGIN:STANDARD
TZOFFSETFROM:-0500
TZOFFSETTO:-0600
TZNAME:CST
DTSTART:20241103T070000
END:STANDARD
END:VTIMEZONE
BEGIN:VEVENT
DTSTART;TZID=America/Chicago:20230112T130000
DTEND;TZID=America/Chicago:20230112T140000
DTSTAMP:20260421T152726
CREATED:20221220T210839Z
LAST-MODIFIED:20221220T212047Z
UID:2476-1673528400-1673532000@conservationprotraining.org
SUMMARY:Advancing Regenerative and Climate-Smart Agriculture Forum Session
DESCRIPTION:This session is part of the 2022-2023 Chesapeake Bay Agriculture Network Forum and Listening Sessions. Join National Fish and Wildlife Foundation to address the question: How can we leverage our collective knowledge and experience supporting agricultural water quality improvement towards achieving a more holistic approach to regenerative and climate-smart agriculture\, farm-scale greenhouse gas reduction\, and agricultural carbon sequestration? \nInfo here. 
URL:https://conservationprotraining.org/event/advancing-regenerative-and-climate-smart-agriculture-forum-session/
END:VEVENT
END:VCALENDAR