BEGIN:VCALENDAR
VERSION:2.0
PRODID:-//Conservation Professional Training Program - ECPv6.15.20//NONSGML v1.0//EN
CALSCALE:GREGORIAN
METHOD:PUBLISH
X-ORIGINAL-URL:https://conservationprotraining.org
X-WR-CALDESC:Events for Conservation Professional Training Program
REFRESH-INTERVAL;VALUE=DURATION:PT1H
X-Robots-Tag:noindex
X-PUBLISHED-TTL:PT1H
BEGIN:VTIMEZONE
TZID:America/Chicago
BEGIN:DAYLIGHT
TZOFFSETFROM:-0600
TZOFFSETTO:-0500
TZNAME:CDT
DTSTART:20210314T080000
END:DAYLIGHT
BEGIN:STANDARD
TZOFFSETFROM:-0500
TZOFFSETTO:-0600
TZNAME:CST
DTSTART:20211107T070000
END:STANDARD
BEGIN:DAYLIGHT
TZOFFSETFROM:-0600
TZOFFSETTO:-0500
TZNAME:CDT
DTSTART:20220313T080000
END:DAYLIGHT
BEGIN:STANDARD
TZOFFSETFROM:-0500
TZOFFSETTO:-0600
TZNAME:CST
DTSTART:20221106T070000
END:STANDARD
BEGIN:DAYLIGHT
TZOFFSETFROM:-0600
TZOFFSETTO:-0500
TZNAME:CDT
DTSTART:20230312T080000
END:DAYLIGHT
BEGIN:STANDARD
TZOFFSETFROM:-0500
TZOFFSETTO:-0600
TZNAME:CST
DTSTART:20231105T070000
END:STANDARD
END:VTIMEZONE
BEGIN:VEVENT
DTSTART;TZID=America/Chicago:20220318T103000
DTEND;TZID=America/Chicago:20220318T113000
DTSTAMP:20260423T194104
CREATED:20220309T202616Z
LAST-MODIFIED:20220309T202616Z
UID:1894-1647599400-1647603000@conservationprotraining.org
SUMMARY:More great info about how to effectively control invasive plants in wetlands
DESCRIPTION:Craig Annen earned his bachelor’s of science in environmental science and plant molecular cell biology from Edgewood College in 1998 and his master’s of science in aquatic botany from the UW-LaCrosse in 2001. His research interests include invasive species management\, economical ecology\, and mathematical ecology. Craig is senior ecologist and operations manager of the firm Integrated Restorations\, LLC. He speaks fluent German\, is a New York Yankees fan\, and is a gourmet cook of Middle Eastern and German cuisine. \nInfo here.
URL:https://conservationprotraining.org/event/more-great-info-about-how-to-effectively-control-invasive-plants-in-wetlands/
CATEGORIES:Partner Event
END:VEVENT
END:VCALENDAR