BEGIN:VCALENDAR
VERSION:2.0
PRODID:-//Conservation Professional Training Program - ECPv6.15.20//NONSGML v1.0//EN
CALSCALE:GREGORIAN
METHOD:PUBLISH
X-WR-CALNAME:Conservation Professional Training Program
X-ORIGINAL-URL:https://conservationprotraining.org
X-WR-CALDESC:Events for Conservation Professional Training Program
REFRESH-INTERVAL;VALUE=DURATION:PT1H
X-Robots-Tag:noindex
X-PUBLISHED-TTL:PT1H
BEGIN:VTIMEZONE
TZID:America/Chicago
BEGIN:DAYLIGHT
TZOFFSETFROM:-0600
TZOFFSETTO:-0500
TZNAME:CDT
DTSTART:20210314T080000
END:DAYLIGHT
BEGIN:STANDARD
TZOFFSETFROM:-0500
TZOFFSETTO:-0600
TZNAME:CST
DTSTART:20211107T070000
END:STANDARD
BEGIN:DAYLIGHT
TZOFFSETFROM:-0600
TZOFFSETTO:-0500
TZNAME:CDT
DTSTART:20220313T080000
END:DAYLIGHT
BEGIN:STANDARD
TZOFFSETFROM:-0500
TZOFFSETTO:-0600
TZNAME:CST
DTSTART:20221106T070000
END:STANDARD
BEGIN:DAYLIGHT
TZOFFSETFROM:-0600
TZOFFSETTO:-0500
TZNAME:CDT
DTSTART:20230312T080000
END:DAYLIGHT
BEGIN:STANDARD
TZOFFSETFROM:-0500
TZOFFSETTO:-0600
TZNAME:CST
DTSTART:20231105T070000
END:STANDARD
END:VTIMEZONE
BEGIN:VEVENT
DTSTART;VALUE=DATE:20221014
DTEND;VALUE=DATE:20221015
DTSTAMP:20260424T142602
CREATED:20220831T180408Z
LAST-MODIFIED:20220831T181028Z
UID:2301-1665705600-1665791999@conservationprotraining.org
SUMMARY:Soil Health Workshop-Marathon County
DESCRIPTION:Soil Health – Fenwood Creek Watershed – Marathon County\nLocation: Bauman Dairy\nFarm\, 221584 Fairfield\nDr\, Edgar\, WI \nDate: Friday\, October 14\, 2022\nTime: 9:30am – 3:00pm \nJoin us to discuss practices that benefit your farm and help water infiltrate into your soil. See how different management practices conserve soil and nutrients\, and witness the results in real time with a rainfall simulator. \nGet an earthworm’s view of the field from a soil pit and learn how to assess your own fields’ soil health; participating farmers will also be able to take a free soil-health test kit back to their farm to measure compaction\, infiltration and soil stability\, compliments of a grant. Hear from local farmers about their experiences\, and from Marathon County CPZ about conservation funding opportunities. \nLunch is included in the registration. Pre-registration by October 12 is requested to ensure enough meals and handouts for all participants. \nOnce you register\, you will receive a confirmation email. If you do not receive a confirmation email\, send a message to Kevin.Erb@wisc.edu . \nPlease complete one form for all participating from your farm or business \nThere is no registration fee. \nPLEASE NOTE: Due to limited funding\, priority for attendance (and soil health kits) will be given to those who farm in and around the Fenwood watershed. If capacity limits are reached\, those outside the target area may be placed on a waiting list. \nRegister here.
URL:https://conservationprotraining.org/event/soil-health-workshop/
LOCATION:WI
CATEGORIES:CPTP Training
END:VEVENT
END:VCALENDAR