BEGIN:VCALENDAR
VERSION:2.0
PRODID:-//Conservation Professional Training Program - ECPv6.15.17.1//NONSGML v1.0//EN
CALSCALE:GREGORIAN
METHOD:PUBLISH
X-WR-CALNAME:Conservation Professional Training Program
X-ORIGINAL-URL:https://conservationprotraining.org
X-WR-CALDESC:Events for Conservation Professional Training Program
REFRESH-INTERVAL;VALUE=DURATION:PT1H
X-Robots-Tag:noindex
X-PUBLISHED-TTL:PT1H
BEGIN:VTIMEZONE
TZID:America/Chicago
BEGIN:DAYLIGHT
TZOFFSETFROM:-0600
TZOFFSETTO:-0500
TZNAME:CDT
DTSTART:20240310T080000
END:DAYLIGHT
BEGIN:STANDARD
TZOFFSETFROM:-0500
TZOFFSETTO:-0600
TZNAME:CST
DTSTART:20241103T070000
END:STANDARD
BEGIN:DAYLIGHT
TZOFFSETFROM:-0600
TZOFFSETTO:-0500
TZNAME:CDT
DTSTART:20250309T080000
END:DAYLIGHT
BEGIN:STANDARD
TZOFFSETFROM:-0500
TZOFFSETTO:-0600
TZNAME:CST
DTSTART:20251102T070000
END:STANDARD
BEGIN:DAYLIGHT
TZOFFSETFROM:-0600
TZOFFSETTO:-0500
TZNAME:CDT
DTSTART:20260308T080000
END:DAYLIGHT
BEGIN:STANDARD
TZOFFSETFROM:-0500
TZOFFSETTO:-0600
TZNAME:CST
DTSTART:20261101T070000
END:STANDARD
END:VTIMEZONE
BEGIN:VEVENT
DTSTART;TZID=America/Chicago:20250204T120000
DTEND;TZID=America/Chicago:20250204T160000
DTSTAMP:20260420T093316
CREATED:20250106T213914Z
LAST-MODIFIED:20250106T213914Z
UID:2845-1738670400-1738684800@conservationprotraining.org
SUMMARY:2025 Annual CAFO Update Meeting - Darlington
DESCRIPTION:Join the Conservation Professional Training Program\, UW-Madison Division of Extension and Wisconsin DNR for the 2025 Annual AFO Update meetings. This is an update meeting for WPEDES permitted CAFO owners & managers\, nutrient management plan writers\, engineers\, agency staff and consultants. \nThis meeting is held from noon to 4pm and will cover common concerns during inspections\, a panel from consultants\, sessions on nutrient loss and tile lines\, manure hauling audits\, updates on permitting and nutrient management policy and more.
URL:https://conservationprotraining.org/event/2025-annual-cafo-update-meeting-darlington/
LOCATION:Darlington Multipurpose Building\, 11974 Ames Rd\, Darlington\, WI\, United States
CATEGORIES:CPTP Training,Extension Event
END:VEVENT
BEGIN:VEVENT
DTSTART;TZID=America/Chicago:20250205T080000
DTEND;TZID=America/Chicago:20250205T120000
DTSTAMP:20260420T093316
CREATED:20250106T214219Z
LAST-MODIFIED:20250106T214219Z
UID:2848-1738742400-1738756800@conservationprotraining.org
SUMMARY:2025 Annual CAFO Update Meeting - Jefferson
DESCRIPTION:Join the Conservation Professional Training Program\, UW-Madison Division of Extension and Wisconsin DNR for the 2025 Annual AFO Update meetings. This is an update meeting for WPEDES permitted CAFO owners & managers\, nutrient management plan writers\, engineers\, agency staff and consultants. \nThis meeting is held from 8am to noon and will cover common concerns during inspections\, a panel from consultants\, sessions on nutrient loss and tile lines\, manure hauling audits\, updates on permitting and nutrient management policy and more.
URL:https://conservationprotraining.org/event/2025-annual-cafo-update-meeting-jefferson/
LOCATION:Jefferson County Highway Department\, 1425 S Wisconsin Drive\, Jefferson\, WI\, United States
CATEGORIES:CPTP Training,Extension Event
END:VEVENT
BEGIN:VEVENT
DTSTART;TZID=America/Chicago:20250211T093000
DTEND;TZID=America/Chicago:20250211T160000
DTSTAMP:20260420T093316
CREATED:20250106T214510Z
LAST-MODIFIED:20250106T214510Z
UID:2852-1739266200-1739289600@conservationprotraining.org
SUMMARY:2025 Annual CAFO Update Meeting - Mauston
DESCRIPTION:Join the Conservation Professional Training Program\, UW-Madison Division of Extension and Wisconsin DNR for the 2025 Annual AFO Update meetings. This is an update meeting for WPEDES permitted CAFO owners & managers\, nutrient management plan writers\, engineers\, agency staff and consultants. \nThis meeting includes a separate pre-event engineering technical session from 9:30 – 11:30am. The registration fee includes one or both sessions and lunch on these dates. The technical engineering sessions are open and to non-engineers. \nThe workshop will be held from Noon – 4pm and will cover common concerns during inspections\, a panel from consultants\, sessions on nutrient loss and tile lines\, manure hauling audits\, updates on permitting and nutrient management policy and more. \nBoth sessions – engineering technical session and CAFO update meeting will be held at the Outdoors Forever Clubhouse in Mauston.
URL:https://conservationprotraining.org/event/2025-annual-cafo-update-meeting-mauston/
LOCATION:Outdoors Forever Clubhouse\, W4890 County Road N\, Mauston\, WI\, United States
CATEGORIES:CPTP Training,Extension Event
END:VEVENT
BEGIN:VEVENT
DTSTART;TZID=America/Chicago:20250212T080000
DTEND;TZID=America/Chicago:20250212T120000
DTSTAMP:20260420T093316
CREATED:20250106T214849Z
LAST-MODIFIED:20250106T214849Z
UID:2855-1739347200-1739361600@conservationprotraining.org
SUMMARY:2025 Annual CAFO Update Meeting: Eau Claire
DESCRIPTION:Join the Conservation Professional Training Program\, UW-Madison Division of Extension and Wisconsin DNR for the 2025 Annual AFO Update meetings. This is an update meeting for WPEDES permitted CAFO owners & managers\, nutrient management plan writers\, engineers\, agency staff and consultants. \nThe workshop will be held from 8am to noon and will cover common concerns during inspections\, a panel from consultants\, sessions on nutrient loss and tile lines\, manure hauling audits\, updates on permitting and nutrient management policy and more.
URL:https://conservationprotraining.org/event/2025-annual-cafo-update-meeting-eau-claire/
LOCATION:29 Pines Conference Center\, 5872 33rd Ave\, Eau Claire\, WI\, United States
CATEGORIES:CPTP Training,Extension Event
END:VEVENT
BEGIN:VEVENT
DTSTART;TZID=America/Chicago:20250220T090000
DTEND;TZID=America/Chicago:20250220T150000
DTSTAMP:20260420T093316
CREATED:20250115T203402Z
LAST-MODIFIED:20250115T203402Z
UID:2863-1740042000-1740063600@conservationprotraining.org
SUMMARY:Ag Drainage 2025
DESCRIPTION:UW-Madison Extension and Conservation Professional Training Program are once again hosting their drainage workshops focusing on how drainage systems work and why planning ahead can be the difference between improving crop yields and an expensive failure. \nAgenda highlights include: \n\nDesigning and maintaining drainage systems for peak efficiency\nWisconsin drainage law: What you need to know before you install\nUnderstanding regulations that may impact your decisions\nHow to find old tile in your fields\nWater quality and conservation considerations
URL:https://conservationprotraining.org/event/ag-drainage-2025/
LOCATION:Fond du Lac County Highway Department\, 1820 S Hickory St\, Fond du Lac\, WI\, United States
CATEGORIES:CPTP Training,Extension Event
END:VEVENT
END:VCALENDAR